BEGIN:VCALENDAR
VERSION:2.0
PRODID:icalendar-ruby
CALSCALE:GREGORIAN
METHOD:PUBLISH
BEGIN:VTIMEZONE
TZID:Australia/Brisbane
BEGIN:STANDARD
DTSTART:19920301T020000
TZOFFSETFROM:+1100
TZOFFSETTO:+1000
TZNAME:AEST
END:STANDARD
END:VTIMEZONE
BEGIN:VEVENT
DTSTAMP:20210228T061624Z
UID:inspection_935154
DTSTART;TZID=Australia/Brisbane:20210303T100000
DTEND;TZID=Australia/Brisbane:20210303T103000
CLASS:PUBLIC
CREATED:20210226T085419
DESCRIPTION: 
LAST-MODIFIED:20210226T085419
LOCATION:5 / 20 Dutton Street\, COOLANGATTA QLD 4225\, Australia
SUMMARY:5 / 20 Dutton Street\,  Inspection
URL:http://coolytweedrealty.com.au/
END:VEVENT
END:VCALENDAR
