BEGIN:VCALENDAR
VERSION:2.0
PRODID:icalendar-ruby
CALSCALE:GREGORIAN
METHOD:PUBLISH
BEGIN:VEVENT
DTSTAMP:20210228T061814Z
UID:http://coolytweedrealty.com.au/property?property_id=580393
DTSTART:20200711T100000
DTEND:20200711T103000
CLASS:PUBLIC
CREATED:20200617T073327
DESCRIPTION: 
LAST-MODIFIED:20200711T202242
LOCATION:3 Diamond Place\, TWEED HEADS NSW 2485\, Australia
SUMMARY:3 Diamond Place\,  Auction
URL:http://coolytweedrealty.com.au/property?property_id=580393
END:VEVENT
END:VCALENDAR
