BEGIN:VCALENDAR
VERSION:2.0
PRODID:icalendar-ruby
CALSCALE:GREGORIAN
METHOD:PUBLISH
BEGIN:VEVENT
DTSTAMP:20210228T061738Z
UID:http://coolytweedrealty.com.au/property?property_id=636963
DTSTART:20210223T130000
DTEND:20210223T133000
CLASS:PUBLIC
CREATED:20201012T182826
DESCRIPTION: 
LAST-MODIFIED:20210224T080248
LOCATION:22 Inlet Drive\, TWEED HEADS WEST NSW 2485\, Australia
SUMMARY:22 Inlet Drive\,  Auction
URL:http://coolytweedrealty.com.au/property?property_id=636963
END:VEVENT
END:VCALENDAR
