BEGIN:VCALENDAR
VERSION:2.0
PRODID:icalendar-ruby
CALSCALE:GREGORIAN
METHOD:PUBLISH
BEGIN:VEVENT
DTSTAMP:20210228T061749Z
UID:http://coolytweedrealty.com.au/property?property_id=675416
DTSTART:20210131T130000
DTEND:20210131T133000
CLASS:PUBLIC
CREATED:20201211T153853
DESCRIPTION: 
LAST-MODIFIED:20210129T181942
LOCATION:8 / 8 Mariners Drive West\, TWEED HEADS NSW 2485\, Australia
SUMMARY:8 / 8 Mariners Drive West\,  Auction
URL:http://coolytweedrealty.com.au/property?property_id=675416
END:VEVENT
END:VCALENDAR
